BEGIN:VCALENDAR
VERSION:2.0
PRODID:-//Modbury Parish Council//Meeting Calendar//EN
CALSCALE:GREGORIAN
METHOD:PUBLISH
BEGIN:VEVENT
UID:69754-20160113@modburyparishcouncil.gov.uk
DTSTAMP:20260421T083031Z
DTSTART;VALUE=DATE:20160113
DTEND;VALUE=DATE:20160114
SUMMARY:MARS Meeting &#8211\\; 13th January 2016
DESCRIPTION:Modbury Association of Recreation and Sports Committee Meeting\nView details: https://modburyparishcouncil.gov.uk/meetings/mars-meeting-13th-january-2016/
URL:https://modburyparishcouncil.gov.uk/meetings/mars-meeting-13th-january-2016/
END:VEVENT
END:VCALENDAR
