BEGIN:VCALENDAR
VERSION:2.0
PRODID:-//Modbury Parish Council//Meeting Calendar//EN
CALSCALE:GREGORIAN
METHOD:PUBLISH
BEGIN:VEVENT
UID:69768-20170518@modburyparishcouncil.gov.uk
DTSTAMP:20260420T082325Z
DTSTART;VALUE=DATE:20170518
DTEND;VALUE=DATE:20170519
SUMMARY:MARS Meeting &#8211\\; 18th May 2017
DESCRIPTION:Modbury Association of Recreation and Sports Committee Meeting\nView details: https://modburyparishcouncil.gov.uk/meetings/mars-meeting-18th-may-2017/
URL:https://modburyparishcouncil.gov.uk/meetings/mars-meeting-18th-may-2017/
END:VEVENT
END:VCALENDAR
