BEGIN:VCALENDAR
VERSION:2.0
PRODID:-//Modbury Parish Council//Meeting Calendar//EN
CALSCALE:GREGORIAN
METHOD:PUBLISH
BEGIN:VEVENT
UID:69777-20171121@modburyparishcouncil.gov.uk
DTSTAMP:20260420T082356Z
DTSTART;VALUE=DATE:20171121
DTEND;VALUE=DATE:20171122
SUMMARY:MARS Meeting &#8211\\; 21st November 2017
DESCRIPTION:Modbury Association of Recreation and Sports Committee Meeting\nView details: https://modburyparishcouncil.gov.uk/meetings/mars-meeting-21st-november-2017/
URL:https://modburyparishcouncil.gov.uk/meetings/mars-meeting-21st-november-2017/
END:VEVENT
END:VCALENDAR
