BEGIN:VCALENDAR
VERSION:2.0
PRODID:-//Modbury Parish Council//Meeting Calendar//EN
CALSCALE:GREGORIAN
METHOD:PUBLISH
BEGIN:VEVENT
UID:70476-20231016@modburyparishcouncil.gov.uk
DTSTAMP:20260420T082320Z
DTSTART;VALUE=DATE:20231016
DTEND;VALUE=DATE:20231017
SUMMARY:Maintenance Committee Meeting
DESCRIPTION:Maintenance Committee Meeting\nView details: https://modburyparishcouncil.gov.uk/meetings/maintenance-committee-meeting-4/
URL:https://modburyparishcouncil.gov.uk/meetings/maintenance-committee-meeting-4/
END:VEVENT
END:VCALENDAR
