BEGIN:VCALENDAR
VERSION:2.0
PRODID:-//Modbury Parish Council//Meeting Calendar//EN
CALSCALE:GREGORIAN
METHOD:PUBLISH
BEGIN:VEVENT
UID:70479-20231024@modburyparishcouncil.gov.uk
DTSTAMP:20260421T082439Z
DTSTART;VALUE=DATE:20231024
DTEND;VALUE=DATE:20231025
SUMMARY:Council Meeting &#8211\\; 24th October
DESCRIPTION:Full Council Meeting\nView details: https://modburyparishcouncil.gov.uk/meetings/council-meeting-24th-october/
URL:https://modburyparishcouncil.gov.uk/meetings/council-meeting-24th-october/
END:VEVENT
END:VCALENDAR
