BEGIN:VCALENDAR
VERSION:2.0
PRODID:-//Modbury Parish Council//Meeting Calendar//EN
CALSCALE:GREGORIAN
METHOD:PUBLISH
BEGIN:VEVENT
UID:70578-20240109@modburyparishcouncil.gov.uk
DTSTAMP:20260423T082831Z
DTSTART;VALUE=DATE:20240109
DTEND;VALUE=DATE:20240110
SUMMARY:Council Meeting &#8211\\; 9th January 2024
DESCRIPTION:Full Council Meeting\nView details: https://modburyparishcouncil.gov.uk/meetings/council-meeting-9th-january-2024/
URL:https://modburyparishcouncil.gov.uk/meetings/council-meeting-9th-january-2024/
END:VEVENT
END:VCALENDAR
