BEGIN:VCALENDAR
VERSION:2.0
PRODID:-//Modbury Parish Council//Meeting Calendar//EN
CALSCALE:GREGORIAN
METHOD:PUBLISH
BEGIN:VEVENT
UID:70623-20240206@modburyparishcouncil.gov.uk
DTSTAMP:20260419T141151Z
DTSTART;VALUE=DATE:20240206
DTEND;VALUE=DATE:20240207
SUMMARY:Council Meeting &#8211\\; 6th February
DESCRIPTION:Full Council Meeting\nView details: https://modburyparishcouncil.gov.uk/meetings/council-meeting-6th-february/
URL:https://modburyparishcouncil.gov.uk/meetings/council-meeting-6th-february/
END:VEVENT
END:VCALENDAR
