BEGIN:VCALENDAR
VERSION:2.0
PRODID:-//Modbury Parish Council//Meeting Calendar//EN
CALSCALE:GREGORIAN
METHOD:PUBLISH
BEGIN:VEVENT
UID:70652-20240219@modburyparishcouncil.gov.uk
DTSTAMP:20260419T124813Z
DTSTART;VALUE=DATE:20240219
DTEND;VALUE=DATE:20240220
SUMMARY:Extra-ordinary Council Meeting
DESCRIPTION:Full Council Meeting\nView details: https://modburyparishcouncil.gov.uk/meetings/extra-ordinary-council-meeting/
URL:https://modburyparishcouncil.gov.uk/meetings/extra-ordinary-council-meeting/
END:VEVENT
END:VCALENDAR
