BEGIN:VCALENDAR
VERSION:2.0
PRODID:-//Modbury Parish Council//Meeting Calendar//EN
CALSCALE:GREGORIAN
METHOD:PUBLISH
BEGIN:VEVENT
UID:70666-20240305@modburyparishcouncil.gov.uk
DTSTAMP:20260420T082240Z
DTSTART;VALUE=DATE:20240305
DTEND;VALUE=DATE:20240306
SUMMARY:Council Meeting &#8211\\; 5th march
DESCRIPTION:Full Council Meeting\nView details: https://modburyparishcouncil.gov.uk/meetings/council-meeting-5th-march/
URL:https://modburyparishcouncil.gov.uk/meetings/council-meeting-5th-march/
END:VEVENT
END:VCALENDAR
