BEGIN:VCALENDAR
VERSION:2.0
PRODID:-//Modbury Parish Council//Meeting Calendar//EN
CALSCALE:GREGORIAN
METHOD:PUBLISH
BEGIN:VEVENT
UID:70690-20240402@modburyparishcouncil.gov.uk
DTSTAMP:20260421T081129Z
DTSTART;VALUE=DATE:20240402
DTEND;VALUE=DATE:20240403
SUMMARY:Annual Parish Community Meeting
DESCRIPTION:Full Council Meeting\nView details: https://modburyparishcouncil.gov.uk/meetings/annual-parish-community-meeting/
URL:https://modburyparishcouncil.gov.uk/meetings/annual-parish-community-meeting/
END:VEVENT
END:VCALENDAR
