BEGIN:VCALENDAR
VERSION:2.0
PRODID:-//Modbury Parish Council//Meeting Calendar//EN
CALSCALE:GREGORIAN
METHOD:PUBLISH
BEGIN:VEVENT
UID:70756-20240528@modburyparishcouncil.gov.uk
DTSTAMP:20260420T082325Z
DTSTART;VALUE=DATE:20240528
DTEND;VALUE=DATE:20240529
SUMMARY:Finance and HR Committee Meeting
DESCRIPTION:Finance and Human Resources Committee Meeting\nView details: https://modburyparishcouncil.gov.uk/meetings/finance-and-hr-committee-meeting/
URL:https://modburyparishcouncil.gov.uk/meetings/finance-and-hr-committee-meeting/
END:VEVENT
END:VCALENDAR
