BEGIN:VCALENDAR
VERSION:2.0
PRODID:-//Modbury Parish Council//Meeting Calendar//EN
CALSCALE:GREGORIAN
METHOD:PUBLISH
BEGIN:VEVENT
UID:70929-20240716@modburyparishcouncil.gov.uk
DTSTAMP:20260420T082234Z
DTSTART;VALUE=DATE:20240716
DTEND;VALUE=DATE:20240717
SUMMARY:Finance and HR Committee Meeting &#8211\\; 16th July
DESCRIPTION:Finance and Human Resources Committee Meeting\nView details: https://modburyparishcouncil.gov.uk/meetings/finance-and-hr-committee-meeting-16th-july/
URL:https://modburyparishcouncil.gov.uk/meetings/finance-and-hr-committee-meeting-16th-july/
END:VEVENT
END:VCALENDAR
