BEGIN:VCALENDAR
VERSION:2.0
PRODID:-//Modbury Parish Council//Meeting Calendar//EN
CALSCALE:GREGORIAN
METHOD:PUBLISH
BEGIN:VEVENT
UID:71085-20241008@modburyparishcouncil.gov.uk
DTSTAMP:20260425T030334Z
DTSTART;VALUE=DATE:20241008
DTEND;VALUE=DATE:20241009
SUMMARY:Council Meeting &#8211\\; 8th October
DESCRIPTION:Full Council Meeting\nView details: https://modburyparishcouncil.gov.uk/meetings/councl-meeting-8th-october/
URL:https://modburyparishcouncil.gov.uk/meetings/councl-meeting-8th-october/
END:VEVENT
END:VCALENDAR
