BEGIN:VCALENDAR
VERSION:2.0
PRODID:-//Modbury Parish Council//Meeting Calendar//EN
CALSCALE:GREGORIAN
METHOD:PUBLISH
BEGIN:VEVENT
UID:71106-20241022@modburyparishcouncil.gov.uk
DTSTAMP:20260420T081159Z
DTSTART;VALUE=DATE:20241022
DTEND;VALUE=DATE:20241023
SUMMARY:Finance and Human Resources Committee &#8211\\; 22nd October
DESCRIPTION:Finance and Human Resources Committee Meeting\nView details: https://modburyparishcouncil.gov.uk/meetings/finance-and-human-resources-committee-22nd-october/
URL:https://modburyparishcouncil.gov.uk/meetings/finance-and-human-resources-committee-22nd-october/
END:VEVENT
END:VCALENDAR
