BEGIN:VCALENDAR
VERSION:2.0
PRODID:-//Modbury Parish Council//Meeting Calendar//EN
CALSCALE:GREGORIAN
METHOD:PUBLISH
BEGIN:VEVENT
UID:71182-20241203@modburyparishcouncil.gov.uk
DTSTAMP:20260425T001215Z
DTSTART;VALUE=DATE:20241203
DTEND;VALUE=DATE:20241204
SUMMARY:Full Council Meeting &#8211\\; December
DESCRIPTION:Full Council Meeting\nView details: https://modburyparishcouncil.gov.uk/meetings/full-council-meeting-december/
URL:https://modburyparishcouncil.gov.uk/meetings/full-council-meeting-december/
END:VEVENT
END:VCALENDAR
