BEGIN:VCALENDAR
VERSION:2.0
PRODID:-//Modbury Parish Council//Meeting Calendar//EN
CALSCALE:GREGORIAN
METHOD:PUBLISH
BEGIN:VEVENT
UID:71216-20241219@modburyparishcouncil.gov.uk
DTSTAMP:20260424T225037Z
DTSTART;VALUE=DATE:20241219
DTEND;VALUE=DATE:20241220
SUMMARY:Extra-ordinary Meeting &#8211\\; 19th December agenda
DESCRIPTION:Full Council Meeting\nView details: https://modburyparishcouncil.gov.uk/meetings/extra-ordinary-meeting-19th-december/
URL:https://modburyparishcouncil.gov.uk/meetings/extra-ordinary-meeting-19th-december/
END:VEVENT
END:VCALENDAR
