BEGIN:VCALENDAR
VERSION:2.0
PRODID:-//Modbury Parish Council//Meeting Calendar//EN
CALSCALE:GREGORIAN
METHOD:PUBLISH
BEGIN:VEVENT
UID:71241-20241219@modburyparishcouncil.gov.uk
DTSTAMP:20260425T001404Z
DTSTART;VALUE=DATE:20241219
DTEND;VALUE=DATE:20241220
SUMMARY:Extra-ordinary Meeting 19th December 2024 &#8211\\; minutes
DESCRIPTION:Full Council Meeting\nView details: https://modburyparishcouncil.gov.uk/meetings/extra-ordinary-meeting-minutes-19th-december-2024/
URL:https://modburyparishcouncil.gov.uk/meetings/extra-ordinary-meeting-minutes-19th-december-2024/
END:VEVENT
END:VCALENDAR
