BEGIN:VCALENDAR
VERSION:2.0
PRODID:-//Modbury Parish Council//Meeting Calendar//EN
CALSCALE:GREGORIAN
METHOD:PUBLISH
BEGIN:VEVENT
UID:71289-20250227@modburyparishcouncil.gov.uk
DTSTAMP:20260424T211737Z
DTSTART;VALUE=DATE:20250227
DTEND;VALUE=DATE:20250228
SUMMARY:February 2025 &#8211\\; Planning Committee agenda
DESCRIPTION:Planning Committee Meeting\nView details: https://modburyparishcouncil.gov.uk/meetings/agenda-planning-committee-feb-2025/
URL:https://modburyparishcouncil.gov.uk/meetings/agenda-planning-committee-feb-2025/
END:VEVENT
END:VCALENDAR
