BEGIN:VCALENDAR
VERSION:2.0
PRODID:-//Modbury Parish Council//Meeting Calendar//EN
CALSCALE:GREGORIAN
METHOD:PUBLISH
BEGIN:VEVENT
UID:71480-20250814@modburyparishcouncil.gov.uk
DTSTAMP:20260421T082439Z
DTSTART;VALUE=DATE:20250814
DTEND;VALUE=DATE:20250815
SUMMARY:August 2025 Finance and HR August committee agenda
DESCRIPTION:Finance and Human Resources Committee Meeting\nView details: https://modburyparishcouncil.gov.uk/meetings/finance-and-hr-august-committee-meeting/
URL:https://modburyparishcouncil.gov.uk/meetings/finance-and-hr-august-committee-meeting/
END:VEVENT
END:VCALENDAR
