BEGIN:VCALENDAR
VERSION:2.0
PRODID:-//Modbury Parish Council//Meeting Calendar//EN
CALSCALE:GREGORIAN
METHOD:PUBLISH
BEGIN:VEVENT
UID:71485-20250114@modburyparishcouncil.gov.uk
DTSTAMP:20260424T225043Z
DTSTART;VALUE=DATE:20250114
DTEND;VALUE=DATE:20250115
SUMMARY:January 2025 &#8211\\; Full Council meeting
DESCRIPTION:Full Council Meeting\nView details: https://modburyparishcouncil.gov.uk/meetings/jan-2025-agenda-council-meeting/
URL:https://modburyparishcouncil.gov.uk/meetings/jan-2025-agenda-council-meeting/
END:VEVENT
END:VCALENDAR
