BEGIN:VCALENDAR
VERSION:2.0
PRODID:-//Modbury Parish Council//Meeting Calendar//EN
CALSCALE:GREGORIAN
METHOD:PUBLISH
BEGIN:VEVENT
UID:71492-20250227@modburyparishcouncil.gov.uk
DTSTAMP:20260419T143036Z
DTSTART;VALUE=DATE:20250227
DTEND;VALUE=DATE:20250228
SUMMARY:Febuary 2025 &#8211\\; Planning Committee minutes
DESCRIPTION:Planning Committee Meeting\nView details: https://modburyparishcouncil.gov.uk/meetings/feb-2025-minutes-planning-committee/
URL:https://modburyparishcouncil.gov.uk/meetings/feb-2025-minutes-planning-committee/
END:VEVENT
END:VCALENDAR
