BEGIN:VCALENDAR
VERSION:2.0
PRODID:-//Modbury Parish Council//Meeting Calendar//EN
CALSCALE:GREGORIAN
METHOD:PUBLISH
BEGIN:VEVENT
UID:71494-20250320@modburyparishcouncil.gov.uk
DTSTAMP:20260419T130104Z
DTSTART;VALUE=DATE:20250320
DTEND;VALUE=DATE:20250321
SUMMARY:March 2025 &#8211\\; Planning Committee Agenda and minutes
DESCRIPTION:Planning Committee Meeting\nView details: https://modburyparishcouncil.gov.uk/meetings/march-2025-planning-committee-agenda-and-minutes/
URL:https://modburyparishcouncil.gov.uk/meetings/march-2025-planning-committee-agenda-and-minutes/
END:VEVENT
END:VCALENDAR
