BEGIN:VCALENDAR
VERSION:2.0
PRODID:-//Modbury Parish Council//Meeting Calendar//EN
CALSCALE:GREGORIAN
METHOD:PUBLISH
BEGIN:VEVENT
UID:71497-20250429@modburyparishcouncil.gov.uk
DTSTAMP:20260419T114337Z
DTSTART;VALUE=DATE:20250429
DTEND;VALUE=DATE:20250430
SUMMARY:April 2025 &#8211\\; Planning Committee Agenda and minutes
DESCRIPTION:Planning Committee Meeting\nView details: https://modburyparishcouncil.gov.uk/meetings/april-2025-planning-committee-agenda-and-minutes/
URL:https://modburyparishcouncil.gov.uk/meetings/april-2025-planning-committee-agenda-and-minutes/
END:VEVENT
END:VCALENDAR
