BEGIN:VCALENDAR
VERSION:2.0
PRODID:-//Modbury Parish Council//Meeting Calendar//EN
CALSCALE:GREGORIAN
METHOD:PUBLISH
BEGIN:VEVENT
UID:71620-20251111@modburyparishcouncil.gov.uk
DTSTAMP:20260419T135945Z
DTSTART;VALUE=DATE:20251111
DTEND;VALUE=DATE:20251112
SUMMARY:November 2025 &#8211\\; Finance &#038\\; HR meeting agenda and draft minutes
DESCRIPTION:Finance and Human Resources Committee Meeting\nView details: https://modburyparishcouncil.gov.uk/meetings/november-2025-finance-hr-meeting/
URL:https://modburyparishcouncil.gov.uk/meetings/november-2025-finance-hr-meeting/
END:VEVENT
END:VCALENDAR
