BEGIN:VCALENDAR
VERSION:2.0
PRODID:-//Modbury Parish Council//Meeting Calendar//EN
CALSCALE:GREGORIAN
METHOD:PUBLISH
BEGIN:VEVENT
UID:71729-20251209@modburyparishcouncil.gov.uk
DTSTAMP:20260424T081754Z
DTSTART;VALUE=DATE:20251209
DTEND;VALUE=DATE:20251210
SUMMARY:December 2025 &#8211\\; Maintenance Committee meeting agenda and minutes
DESCRIPTION:Maintenance Committee Meeting\nView details: https://modburyparishcouncil.gov.uk/meetings/maintenance-committee-meeting-7/
URL:https://modburyparishcouncil.gov.uk/meetings/maintenance-committee-meeting-7/
END:VEVENT
END:VCALENDAR
