BEGIN:VCALENDAR
VERSION:2.0
PRODID:-//Modbury Parish Council//Meeting Calendar//EN
CALSCALE:GREGORIAN
METHOD:PUBLISH
BEGIN:VEVENT
UID:71736-20251216@modburyparishcouncil.gov.uk
DTSTAMP:20260423T082139Z
DTSTART;VALUE=DATE:20251216
DTEND;VALUE=DATE:20251217
SUMMARY:December 2025 &#8211\\; Finance Committee meeting agenda
DESCRIPTION:Finance and Human Resources Committee Meeting\nView details: https://modburyparishcouncil.gov.uk/meetings/december-2025-finance-committee-meeting/
URL:https://modburyparishcouncil.gov.uk/meetings/december-2025-finance-committee-meeting/
END:VEVENT
END:VCALENDAR
