BEGIN:VCALENDAR
VERSION:2.0
PRODID:-//Modbury Parish Council//Meeting Calendar//EN
CALSCALE:GREGORIAN
METHOD:PUBLISH
BEGIN:VEVENT
UID:71766-20260127@modburyparishcouncil.gov.uk
DTSTAMP:20260424T094259Z
DTSTART;VALUE=DATE:20260127
DTEND;VALUE=DATE:20260128
SUMMARY:January 2026 &#8211\\; Maintenance Committee
DESCRIPTION:Maintenance Committee Meeting\nView details: https://modburyparishcouncil.gov.uk/meetings/maintenance-committee-3/
URL:https://modburyparishcouncil.gov.uk/meetings/maintenance-committee-3/
END:VEVENT
END:VCALENDAR
