BEGIN:VCALENDAR
VERSION:2.0
PRODID:-//Modbury Parish Council//Meeting Calendar//EN
CALSCALE:GREGORIAN
METHOD:PUBLISH
BEGIN:VEVENT
UID:71857-20260429@modburyparishcouncil.gov.uk
DTSTAMP:20260424T122315Z
DTSTART;VALUE=DATE:20260429
DTEND;VALUE=DATE:20260430
SUMMARY:2026 April &#8211\\; Finance &#038\\; HR Committee agenda
DESCRIPTION:Finance and Human Resources Committee Meeting\nView details: https://modburyparishcouncil.gov.uk/meetings/2026-april-finance-hr-committee-agenda/
URL:https://modburyparishcouncil.gov.uk/meetings/2026-april-finance-hr-committee-agenda/
END:VEVENT
END:VCALENDAR
